BEGIN:VCALENDAR
VERSION:2.0
PRODID:-//Adham Somantrie/AyoLari.in//NONSGML v1.0//EN
CALSCALE:GREGORIAN
BEGIN:VEVENT
UID:1587965fb4d4b5afe8428a4a024feb0d
DTSTAMP:20260420T051208Z
LOCATION:Magelang
DESCRIPTION:ayolari.in
URL;VALUE=URI:https://ayolari.in/lomba/nagapakca-trail-run-2018
SUMMARY:Nagapakca Trail Run 2018
DTSTART;VALUE=DATE;TZID=ASIA-JAKARTA:20180513
DTEND;VALUE=DATE;TZID=ASIA-JAKARTA:20180514
TRANSP:TRANSPARENT
END:VEVENT
END:VCALENDAR