BEGIN:VCALENDAR
VERSION:2.0
PRODID:-//Adham Somantrie/AyoLari.in//NONSGML v1.0//EN
CALSCALE:GREGORIAN
BEGIN:VEVENT
UID:d7322ed717dedf1eb4e6e52a37ea7bcd
DTSTAMP:20260420T023751Z
LOCATION:Bandung
DESCRIPTION:ayolari.in
URL;VALUE=URI:https://ayolari.in/lomba/fituno-10k-challenge
SUMMARY:Fituno 10K Challenge
DTSTART;VALUE=DATE;TZID=ASIA-JAKARTA:20180325
DTEND;VALUE=DATE;TZID=ASIA-JAKARTA:20180326
TRANSP:TRANSPARENT
END:VEVENT
END:VCALENDAR