BEGIN:VCALENDAR
VERSION:2.0
PRODID:-//Adham Somantrie/AyoLari.in//NONSGML v1.0//EN
CALSCALE:GREGORIAN
BEGIN:VEVENT
UID:2387337ba1e0b0249ba90f55b2ba2521
DTSTAMP:20260420T082131Z
LOCATION:Bojonegoro
DESCRIPTION:ayolari.in
URL;VALUE=URI:https://ayolari.in/lomba/bjn-fun-run-5k
SUMMARY:BJN FUN RUN 5K
DTSTART;VALUE=DATE;TZID=ASIA-JAKARTA:20180225
DTEND;VALUE=DATE;TZID=ASIA-JAKARTA:20180226
TRANSP:TRANSPARENT
END:VEVENT
END:VCALENDAR