BEGIN:VCALENDAR
VERSION:2.0
PRODID:-//Adham Somantrie/AyoLari.in//NONSGML v1.0//EN
CALSCALE:GREGORIAN
BEGIN:VEVENT
UID:aa68c75c4a77c87f97fb686b2f068676
DTSTAMP:20260420T184233Z
LOCATION:Sabang
DESCRIPTION:ayolari.in
URL;VALUE=URI:https://ayolari.in/lomba/aceh-marathon-2018
SUMMARY:Aceh Marathon 2018
DTSTART;VALUE=DATE;TZID=ASIA-JAKARTA:20180729
DTEND;VALUE=DATE;TZID=ASIA-JAKARTA:20180730
TRANSP:TRANSPARENT
END:VEVENT
END:VCALENDAR